BEGIN:VCALENDAR
VERSION:2.0
PRODID:-//wp-events-plugin.com//7.2.3.1//EN
TZID:America/New_York
X-WR-TIMEZONE:America/New_York
BEGIN:VEVENT
UID:26@armoredcombatsports.com
DTSTART;TZID=America/New_York:20190804T110000
DTEND;TZID=America/New_York:20190804T150000
DTSTAMP:20190724T235439Z
URL:https://armoredcombatsports.com/events/the-montreal-highland-games-fes
 tival/
SUMMARY:The Montreal Highland Games & Festival
DESCRIPTION:The Manchester Monarchs and the Nashua Knightmares are visiting
  The Montreal Mastiffs and the St Augustine Thunderbirds during the Montre
 al Highland games for a Chapter Meet at the Montreal Highland Games!\n\nMa
 nchester Monarchs\n\nNashua Knightmares\n\n  Montreal Mastiffs\n\n St A
 ugustine Thunderbirds\n\nhttps://www.facebook.com/montrealhighlandgames/ph
 otos/p.2295846417113907/2295846417113907/?type=1&amp\;theater\n\n&nbsp\;\n
 Every year\, the Montreal Highland Games brings together Montrealers of Sc
 ottish and all other backgrounds to celebrate Highland games\, music and c
 ulture.\n​\nThe Games represent a wonderful opportunity for participants
  and visitors alike to discover the treasures\, legends and history of the
  rich Scottish culture.\nChaque année\, les Jeux écossais de Montréal a
 mènent les Montréalais de toutes les origines à célébrer ensemble les
  jeux\, la musique et la culture écossais.\n​\nLes jeux représentent u
 ne merveilleuse opportunité pour les participants tout comme les visiteur
 s\, de découvrir la riche culture écossaise\, ses trésors\, ses légend
 es et son histoire.\nJoignez-vous à une magnifique tradition estivale à 
 Montréal!
CATEGORIES:Demo,Tournament
LOCATION:Douglas Mental Health University Institute\, 6875 Boulevard LaSall
 e\, Verdun\, QC H4H 1R3\, Canada
GEO:45.4414826;-73.57897650000001
X-APPLE-STRUCTURED-LOCATION;VALUE=URI;X-ADDRESS=6875 Boulevard LaSalle\, Ve
 rdun\, QC H4H 1R3\, Canada;X-APPLE-RADIUS=100;X-TITLE=Douglas Mental Healt
 h University Institute:geo:45.4414826,-73.57897650000001
END:VEVENT
BEGIN:VTIMEZONE
TZID:America/New_York
X-LIC-LOCATION:America/New_York
BEGIN:DAYLIGHT
DTSTART:20190310T030000
TZOFFSETFROM:-0500
TZOFFSETTO:-0400
TZNAME:EDT
END:DAYLIGHT
END:VTIMEZONE
END:VCALENDAR