BEGIN:VCALENDAR
VERSION:2.0
PRODID:-//wp-events-plugin.com//7.2.3.1//EN
TZID:America/New_York
X-WR-TIMEZONE:America/New_York
BEGIN:VEVENT
UID:111@armoredcombatsports.com
DTSTART;TZID=America/New_York:20210606T100000
DTEND;TZID=America/New_York:20210606T133000
DTSTAMP:20210603T212824Z
URL:https://armoredcombatsports.com/events/ringo-and-the-dingos-practice/
SUMMARY:Ringo and the Dingos Practice
DESCRIPTION:
CATEGORIES:5 vs 5 Melee,Public Event,Training/Seminar
LOCATION:Greeley Park\, Greeley Park\, 100 Concord St\, Nashua\, NH 03064\,
  Nashua\, New Hampshire \, North East\, United States
GEO:42.765366;-71.467566
X-APPLE-STRUCTURED-LOCATION;VALUE=URI;X-ADDRESS=Greeley Park\, 100 Concord 
 St\, Nashua\, NH 03064\, Nashua\, New Hampshire \, North East\, United Sta
 tes;X-APPLE-RADIUS=100;X-TITLE=Greeley Park:geo:42.765366,-71.467566
END:VEVENT
BEGIN:VTIMEZONE
TZID:America/New_York
X-LIC-LOCATION:America/New_York
BEGIN:DAYLIGHT
DTSTART:20210314T030000
TZOFFSETFROM:-0500
TZOFFSETTO:-0400
TZNAME:EDT
END:DAYLIGHT
END:VTIMEZONE
END:VCALENDAR