BEGIN:VCALENDAR
VERSION:2.0
PRODID:-//wp-events-plugin.com//7.2.3.1//EN
TZID:America/New_York
X-WR-TIMEZONE:America/New_York
BEGIN:VEVENT
UID:20@armoredcombatsports.com
DTSTART;TZID=America/New_York:20190907T130000
DTEND;TZID=America/New_York:20190907T150000
DTSTAMP:20190901T043107Z
URL:https://armoredcombatsports.com/events/chapter-wars-dark-knights-v-hig
 hlanders/
SUMMARY:Chapter Wars - Dark Knights v Highlanders
DESCRIPTION:Come see us at the Faire!\n\nThe Dark Knights vs Highlanders ev
 ent has been moved to the Franklin Renaissance Faire.\n\n&nbsp\;\n\n
ATTACH;FMTTYPE=image/jpeg:https://armoredcombatsports.com/wp-content/uploa
 ds/2019/05/m-v-h.png
CATEGORIES:Demo,Tournament
LOCATION:ODELL PARK\, 124 Memorial St\, Franklin\, NH\, 03235\, United Stat
 es
GEO:43.44595530000001;-71.6485285
X-APPLE-STRUCTURED-LOCATION;VALUE=URI;X-ADDRESS=124 Memorial St\, Franklin\
 , NH\, 03235\, United States;X-APPLE-RADIUS=100;X-TITLE=ODELL PARK:geo:43.
 44595530000001,-71.6485285
END:VEVENT
BEGIN:VTIMEZONE
TZID:America/New_York
X-LIC-LOCATION:America/New_York
BEGIN:DAYLIGHT
DTSTART:20190310T030000
TZOFFSETFROM:-0500
TZOFFSETTO:-0400
TZNAME:EDT
END:DAYLIGHT
END:VTIMEZONE
END:VCALENDAR