BEGIN:VCALENDAR
VERSION:2.0
PRODID:-//wp-events-plugin.com//7.2.3.1//EN
TZID:America/New_York
X-WR-TIMEZONE:America/New_York
BEGIN:VEVENT
UID:56@armoredcombatsports.com
DTSTART;TZID=America/New_York:20200201T110000
DTEND;TZID=America/New_York:20200201T170000
DTSTAMP:20191206T011452Z
URL:https://armoredcombatsports.com/events/carolina-carnage-full-contact-m
 edieval-combat-tourney/
SUMMARY:Carolina Carnage- Full Contact Medieval Combat Tourney
DESCRIPTION:This is the United States Qualifier for the 2020 World Champion
 ship in Spain.\n\nHosted by Palmetto Knights and T Ed Garrison Livestock
  Arena\n\n\n\nFacebook event page - www.facebook.com/events/78373671540039
 0/\n
CATEGORIES:10 vs 10 Melee,3 vs 3 Melee,5 vs 5 Melee,IMCF
 Duels,Melee,Public Event
LOCATION:T Ed Garrison Livestock Arena\, Arena 1101 W Queen St\, Pendleton\
 , South Carolina\,  29670\, United States
GEO:34.638826;-82.812081
X-APPLE-STRUCTURED-LOCATION;VALUE=URI;X-ADDRESS=Arena 1101 W Queen St\, Pen
 dleton\, South Carolina\,  29670\, United States;X-APPLE-RADIUS=100;X-TITL
 E=T Ed Garrison Livestock Arena:geo:34.638826,-82.812081
END:VEVENT
BEGIN:VTIMEZONE
TZID:America/New_York
X-LIC-LOCATION:America/New_York
BEGIN:STANDARD
DTSTART:20191103T010000
TZOFFSETFROM:-0400
TZOFFSETTO:-0500
TZNAME:EST
END:STANDARD
END:VTIMEZONE
END:VCALENDAR